BEGIN:VCALENDAR
VERSION:2.0
PRODID:-//Circolo della Pipa - ECPv4.6.25//NONSGML v1.0//EN
CALSCALE:GREGORIAN
METHOD:PUBLISH
X-WR-CALNAME:Circolo della Pipa
X-ORIGINAL-URL:https://www.circolodellapipa.it
X-WR-CALDESC:Eventi per Circolo della Pipa
BEGIN:VEVENT
DTSTART;TZID=Europe/Rome:20200901T203000
DTEND;TZID=Europe/Rome:20200922T233000
DTSTAMP:20260425T184040
CREATED:20200902T122657Z
LAST-MODIFIED:20200902T123018Z
UID:676-1598992200-1600817400@www.circolodellapipa.it
SUMMARY:Giallo Raffaello
DESCRIPTION:SAVE THE DATE!!!!\nTorna in scena “Giallo Raffaello” al Circolo della Pipa…..\nCarissimi Amici\, allego locandina di “Giallo Raffaello” che andrà in scena nei giorni:\nmartedì e mercoledì 1- 2 e 8-9 settembre; martedì 15 e martedì 22 settembre alle h. 20:30 (v. locandina). \n  \n\n  \nPosto unico € 15\nCena + spettacolo € 40 \nPrenotazioni indispensabili via email a raffaelloperroma@gmail.com entro lunedì 31 agosto. \nPer il numero limitato di posti si accetteranno prenotazioni in ordine di arrivo con priorità sulle prenotazioni con cena! \n
URL:https://www.circolodellapipa.it/event/lvb-2/
LOCATION:Circolo della Pipa\, Via Francesco Jacovacci\, 25\, Roma\, 00197\, Italia
ATTACH;FMTTYPE=image/jpeg:https://www.circolodellapipa.it/wp-content/uploads/2020/07/locandina-evento-giallo-raffaello.jpg
END:VEVENT
END:VCALENDAR