BEGIN:VCALENDAR
VERSION:2.0
PRODID:-//Circolo della Pipa - ECPv4.6.25//NONSGML v1.0//EN
CALSCALE:GREGORIAN
METHOD:PUBLISH
X-WR-CALNAME:Circolo della Pipa
X-ORIGINAL-URL:https://www.circolodellapipa.it
X-WR-CALDESC:Eventi per Circolo della Pipa
BEGIN:VEVENT
DTSTART;TZID=Europe/Rome:20200805T210000
DTEND;TZID=Europe/Rome:20200805T233000
DTSTAMP:20260425T183025
CREATED:20200730T123052Z
LAST-MODIFIED:20200730T154138Z
UID:654-1596661200-1596670200@www.circolodellapipa.it
SUMMARY:PerBacco
DESCRIPTION:SAVE THE DATE!!!!\nIl teatro all’aperto è tornato al Circolo della Pipa……..\nCarissimi Amici\, allego locandina di “PerBacco” che andrà in scena mercoledì 5 agosto in unica serata alle h. 21 presso il Circolo della Pipa (v. locandina). \nDa un idea di Sara Ricci nasce questo “divertissement” sul Vino dove Amore\, seduzione\, gioco\, sensualità\, allegria\, eccitazione\, euforia\, si mescolano per dar vita ad uno spettacolo esilarante e nostalgico. \n  \n\n  \nPosto unico € 15\nCena + spettacolo € 40 \nPrenotazioni indispensabili via email a raffaelloperroma@gmail.com. \nPer il numero limitato di posti saranno accettate prenotazioni in ordine di arrivo. \nAffrettati a prenotare!!!! \n
URL:https://www.circolodellapipa.it/event/perbacco/
LOCATION:Circolo della Pipa\, Via Francesco Jacovacci\, 25\, Roma\, 00197\, Italia
ATTACH;FMTTYPE=image/jpeg:https://www.circolodellapipa.it/wp-content/uploads/2020/07/per-bacco-locandina.jpg
END:VEVENT
END:VCALENDAR